BEGIN:VCALENDAR
VERSION:2.0
PRODID:-//イルチブレインヨガ公式サイト - ECPv6.15.16//NONSGML v1.0//EN
CALSCALE:GREGORIAN
METHOD:PUBLISH
X-ORIGINAL-URL:https://ilchibrainyoga.com
X-WR-CALDESC:イルチブレインヨガ公式サイト のイベント
REFRESH-INTERVAL;VALUE=DURATION:PT1H
X-Robots-Tag:noindex
X-PUBLISHED-TTL:PT1H
BEGIN:VTIMEZONE
TZID:Asia/Tokyo
BEGIN:STANDARD
TZOFFSETFROM:+0900
TZOFFSETTO:+0900
TZNAME:JST
DTSTART:20250101T000000
END:STANDARD
END:VTIMEZONE
BEGIN:VEVENT
DTSTART;TZID=Asia/Tokyo:20260308T140000
DTEND;TZID=Asia/Tokyo:20260321T160000
DTSTAMP:20260420T080126
CREATED:20260303T065444Z
LAST-MODIFIED:20260303T065444Z
UID:85823-1772978400-1774108800@ilchibrainyoga.com
SUMMARY:【姫路】 3月8日(日)21日(土) 　ドキュメンタリー映画『LOVE HEALS』上映会
DESCRIPTION:「LOVE HEALS」は、世界的パワースポットセドナを舞台に、主人公ダナが痛みと向き合い、\n様々な気づきを得て乗り越えていく過程の中で、癒しの本質を見出していく感動的なドキュメンタリー映画です。\n自分自身の健康だけではなく、自分の人生や周りの人々とのより良い関係を築く上での、アイディアを得ることができます。\nまた、様々な専門家の意見を元に、心身の健康管理に役立つ実践的な方法も伝えています。\n映画を見た後は、すぐに実践できる簡単なトレーニングを体験することができます☆ \n【映画予告】☞\n \n【日程】\n 3月8日(日)　 14：00～16：00\n 3月21日(土)  14：00～16：00 \n【会場】ILCHI BRAIN YOGA 姫路スタジオ\n姫路市南駅前町96-1 サウスワンビル3階(JR姫路駅南徒歩1分)\n【参加費】　1000円\n【持ち物】　動きやすい服装、タオル、飲み物\n【ご予約】０７９－２８３－６３６３ \n\nLINEからのお申し込みはこちら⇒https://lin.ee/7jrsfbQ \n\n\n  \n\n\n\n\n	\n	\n	 \n	\n		\n			\n				ご予約内容\n						（必須）\n						\n				 \n			\n			\n				体験レッスンイベント体験レッスン+オーラ撮影オーラ撮影問合せ\n※ 入会予約はこちらからお申し込みください\n				 \n			\n		\n		\n			\n				お名前\n						（必須）\n						\n				 \n			\n			\n				\n				 \n			\n		\n		\n			\n				メールアドレス\n						（必須）\n						\n				 \n			\n			\n				\n※ 携帯電話のメールアドレスをご入力の際は、ドメイン指定の設定をされている場合”＠ilchibrainyoga.com”からのメールを受け取ることができるように設定してください。\n				 \n			\n		\n		\n			\n				お電話番号（携帯可）\n						（必須）\n						\n				 \n			\n			\n				イルチブレインヨガ各店舗からの連絡が可能な番号をご入力ください。\n\n				 \n			\n		\n		\n			\n				ご予約希望日時\n				 \n			\n			\n				ご予約希望日時をお選びください\n【希望日】タイムスケジュールに記載があるクラスからお選びください\n\n時間帯を選択してください10時台のクラス14時台のクラス18時台のクラス午前のイベント午後のイベント夜のイベント\n				 \n				※ ご予約状況等によりご希望の日時に添えない場合もございます。その際は事前に調整を行う連絡をさせていただきますので予めご了承ください。\n\n				 \n			\n		\n		\n			\n				こちらのスタジオを何でお知りになりましたか？\n						 （必須）\n						\n				 \n			\n			\n				チラシ看板書籍雑誌紹介Yahoo検索Google検索口コミその他Webサイト\n				 \n			\n		\n		\n			\n				ご関心があること、習得したいこと（複数可）\n				 \n			\n			\n				自然治癒力アップ集中力アップダイエット体質改善ストレス軽減丹田強化呼吸法瞑想法その他（備考欄にご入力ください）\n				 \n			\n		\n		\n			\n				備考欄\n				 \n			\n			\n				\n				 \n			\n		\n	\n	個人情報の取扱い\n		について、同意の上送信します。\n※ ご入力頂いた情報は、株式会社DAHN WORLD JAPANからのご案内をさせて頂く以外の目的では使用致しません。\n		\n	 \n	\n	\n	 \n	※ 送信ボタンを押すとすぐ送信されます。このページで入力内容を確認してください。\n\n自動で完了メールが配信されます。\n	 \nΔ \n\n\n\n株式会社DAHN WORLD JAPAN　ダンワールドジャパン
URL:https://ilchibrainyoga.com/event/himeji-42/
LOCATION:イルチブレインヨガ姫路スタジオ\, 兵庫県姫路市南駅前町 96-1 サウス・ワン3F\, Japan
CATEGORIES:兵庫,兵庫_LH,姫路
ATTACH;FMTTYPE=image/jpeg:https://ilchibrainyoga.com/wp-content/uploads/2024/06/machida_hl.jpg
END:VEVENT
END:VCALENDAR